BEGIN:VCALENDAR
VERSION:2.0
PRODID:-//hacksw/handcal//NONSGML v1.0//EN
BEGIN:VEVENT
DTSTAMP:20251212T120000Z
DTSTART:20251212T120000Z
DTEND:20251214T200000Z
LOCATION:Prümer Wall, Rheinbach, 53359, Deutschland
SUMMARY:Weihnachtsmarkt Rheinbach vom 12.-14.12.2025
END:VEVENT
END:VCALENDAR
